BEGIN:VCALENDAR
VERSION:2.0
PRODID:-//Pod Osłonami - ECPv6.15.17//NONSGML v1.0//EN
CALSCALE:GREGORIAN
METHOD:PUBLISH
X-WR-CALNAME:Pod Osłonami
X-ORIGINAL-URL:https://podoslonami.pl
X-WR-CALDESC:Wydarzenia dla Pod Osłonami
REFRESH-INTERVAL;VALUE=DURATION:PT1H
X-Robots-Tag:noindex
X-PUBLISHED-TTL:PT1H
BEGIN:VTIMEZONE
TZID:Europe/Paris
BEGIN:DAYLIGHT
TZOFFSETFROM:+0100
TZOFFSETTO:+0200
TZNAME:CEST
DTSTART:20120325T010000
END:DAYLIGHT
BEGIN:STANDARD
TZOFFSETFROM:+0200
TZOFFSETTO:+0100
TZNAME:CET
DTSTART:20121028T010000
END:STANDARD
BEGIN:DAYLIGHT
TZOFFSETFROM:+0100
TZOFFSETTO:+0200
TZNAME:CEST
DTSTART:20130331T010000
END:DAYLIGHT
BEGIN:STANDARD
TZOFFSETFROM:+0200
TZOFFSETTO:+0100
TZNAME:CET
DTSTART:20131027T010000
END:STANDARD
BEGIN:DAYLIGHT
TZOFFSETFROM:+0100
TZOFFSETTO:+0200
TZNAME:CEST
DTSTART:20140330T010000
END:DAYLIGHT
BEGIN:STANDARD
TZOFFSETFROM:+0200
TZOFFSETTO:+0100
TZNAME:CET
DTSTART:20141026T010000
END:STANDARD
END:VTIMEZONE
BEGIN:VEVENT
DTSTART;VALUE=DATE:20130521
DTEND;VALUE=DATE:20130526
DTSTAMP:20260423T100604
CREATED:20130429T222836Z
LAST-MODIFIED:20140312T162335Z
UID:348-1369094400-1369526399@podoslonami.pl
SUMMARY:21 - 25 maja 2013 - Chelsea Flower Show\, Londyn
DESCRIPTION:  \n21-25 maja 2013r.\, miejsce: Londyn\, Royal Hospital Chelsea \n\nChelsea Flower Show \nJest to jeden z najciekawszych pokazów kwiatów na świecie\, który w 2013 r. obchodzi\nsetną rocznicę. \nWarto więc poświęcić nieco uwagi „czcigodnej jubilatce”. Corocznie\, od 1913 Chelsea Flower Show odbywała się na terenie Szpitala Chelsea. Wyjątek stanowiły przerwy podczas dwóch wojen światowych. Pierwsza wystawa została zorganizowana w związku z tym\, że uznano iż najodpowiedniejszym miejscem dla tego prestiżowego wydarzenia firmowanego przez RHS będą tereny Chelsea Hospital. Warto wspomnieć\, że pierwsza wystawa RHS miała miejsce już w 1862 roku w Kenington\, w latach 1888 i 1911 została ona przeniesiona do Temple Garden\, a w 1913 roku do Chelsea\, gdzie organizowana jest do dziś.Niegdyś była największą brytyjską wystawą kwiatów. Chociaż obecnie\, ten zaszczytny tytuł przypada Hampton Court\, Chelsea Flower Show\, nadal jest uważana za najbardziej prestiżową. Już podczas pierwszych wystaw\, zwiedzający mogli podziwiać eksponaty architektury krajobrazu oraz modele ogrodów. \nImpreza bardzo mocno kojarzy się z rodziną królewską\, która zaszczyca ją swoją obecnością w dniu otwarcia. Na przestrzeni mijających lat\, zmieniali się wystawcy\, większość z nich odeszła już do lamusa historii. Warto jednak wspomnieć\, że dwie firmy wystawiające w 2013 r.\, robią to nadal: McBean’s Orchids i Blackmore and Langdon. \nPrzez wiele lat wystawa odbywała się m.in. w gigantycznym namiocie Great Marquee o powierzchni ponad 3 arów\, który w 1951 r. został wpisany do Księgi Rekordów Guinnesa\, jako największy namiot świata. W 2000 r. namiot zastąpiono bardziej trwałą konstrukcją. Przez wiele lat nie ograniczano wstępu dla chętnych\, jednak z uwagi na to\, że w 1979 r. pojawiła się tak wielka ilość zwiedzających\, że koniecznym stało się zamknięcie wejścia\, w 1980 roku wprowadzono ograniczoną liczbę biletów do sprzedaży. Florystyka pojawiła się na wystawie w 1948 roku. W 1956 r.\, ze względu na powiększającą się ilość wystawców\, ustawiono dla niej drugi namiot. \noficialna strona: RHS Chelsea Flower Show \n 
URL:https://podoslonami.pl/zapowiedz/21-25-maja-2013-chelsea-flower-show-londyn/
ATTACH;FMTTYPE=image/jpeg:https://podoslonami.pl/wp-content/uploads/images/src/64337ffeaae67237594d79a8ceda7ce6.jpg
END:VEVENT
END:VCALENDAR